BEGIN:VCALENDAR
PRODID:-//Microsoft Corporation//Outlook MIMEDIR//EN
VERSION:2.0
METHOD:PUBLISH
BEGIN:VEVENT
DTSTART:20260420T180000
DTEND:20260420T190000
DESCRIPTION:SPECIAL MEETING AND CLOSED SESSION  Councilmember Boldt may participate remotely from Omni Shoreham, 2500 Calvert Street, NW, Washington DC 20008
LOCATION:City Manager"s Conference Room
SUMMARY:City Council
CATEGORIES:MEETING
END:VEVENT
END:VCALENDAR
